Workbook

Sheet 1000m,5000m
A1: 第44回嵐山町健康マラソン大会 参加申込書
A2: 申込者名 | G2: 申込者住所
A3: ふりがな | J3: 年齢 | L3: 性別
A4: 出場者名 | L4: 男 ・ 女
A5: 出場者住所 | J5: TEL
A6: 区分 (1つ以上に○) | C6: 町内在住 ・ 町内在勤 ・ 町内在学 ・ 町内団体所属 ・ 町内出身者とその同居家族
A7: 保護者名 (未成年者のみ) | J7: TEL
A8: 出場種目 (1つに○) | C8: 第 １ ２ ３ ４ 10 11 部
A9: 所属 (12字以内)
A10: 事務局 記入欄 | C10: DATE | F10: No. | I10: CHECK
A12: =$A$1 -> 第44回嵐山町健康マラソン大会 参加申込書
A13: 申込者名 | G13: 申込者住所
A14: ふりがな | J14: 年齢 | L14: 性別
A15: 出場者名 | L15: 男 ・ 女
A16: 出場者住所 | J16: TEL
A17: 区分 (1つ以上に○) | C17: 町内在住 ・ 町内在勤 ・ 町内在学 ・ 町内団体所属 ・ 町内出身者とその同居家族
A18: 保護者名 (未成年者のみ) | J18: TEL
A19: 出場種目 (1つに○) | C19: 第 １ ２ ３ ４ 10 11 部
A20: 所属 (12字以内)
A21: 事務局 記入欄 | C21: DATE | F21: No. | I21: CHECK
A22: =$A$1 -> 第44回嵐山町健康マラソン大会 参加申込書
A23: 申込者名 | G23: 申込者住所
A24: ふりがな | J24: 年齢 | L24: 性別
A25: 出場者名 | L25: 男 ・ 女
A26: 出場者住所 | J26: TEL
A27: 区分 (1つ以上に○) | C27: 町内在住 ・ 町内在勤 ・ 町内在学 ・ 町内団体所属 ・ 町内出身者とその同居家族
A28: 保護者名 (未成年者のみ) | J28: TEL
A29: 出場種目 (1つに○) | C29: 第 １ ２ ３ ４ 10 11 部
A30: 所属 (12字以内)
A31: 事務局 記入欄 | C31: DATE | F31: No. | I31: CHECK
A33: =$A$1 -> 第44回嵐山町健康マラソン大会 参加申込書
A34: 申込者名 | G34: 申込者住所
A35: ふりがな | J35: 年齢 | L35: 性別
A36: 出場者名 | L36: 男 ・ 女
A37: 出場者住所 | J37: TEL
A38: 区分 (1つ以上に○) | C38: 町内在住 ・ 町内在勤 ・ 町内在学 ・ 町内団体所属 ・ 町内出身者とその同居家族
A39: 保護者名 (未成年者のみ) | J39: TEL
A40: 出場種目 (1つに○) | C40: 第 １ ２ ３ ４ 10 11 部
A41: 所属 (12字以内)
A42: 事務局 記入欄 | C42: DATE | F42: No. | I42: CHECK
A43: =$A$1 -> 第44回嵐山町健康マラソン大会 参加申込書
A44: 申込者名 | G44: 申込者住所
A45: ふりがな | J45: 年齢 | L45: 性別
A46: 出場者名 | L46: 男 ・ 女
A47: 出場者住所 | J47: TEL
A48: 区分 (1つ以上に○) | C48: 町内在住 ・ 町内在勤 ・ 町内在学 ・ 町内団体所属 ・ 町内出身者とその同居家族
A49: 保護者名 (未成年者のみ) | J49: TEL
A50: 出場種目 (1つに○) | C50: 第 １ ２ ３ ４ 10 11 部
A51: 所属 (12字以内)
A52: 事務局 記入欄 | C52: DATE | F52: No. | I52: CHECK
A54: =$A$1 -> 第44回嵐山町健康マラソン大会 参加申込書
A55: 申込者名 | G55: 申込者住所
A56: ふりがな | J56: 年齢 | L56: 性別
A57: 出場者名 | L57: 男 ・ 女
A58: 出場者住所 | J58: TEL
A59: 区分 (1つ以上に○) | C59: 町内在住 ・ 町内在勤 ・ 町内在学 ・ 町内団体所属 ・ 町内出身者とその同居家族
A60: 保護者名 (未成年者のみ) | J60: TEL
A61: 出場種目 (1つに○) | C61: 第 １ ２ ３ ４ 10 11 部
A62: 所属 (12字以内)
A63: 事務局 記入欄 | C63: DATE | F63: No. | I63: CHECK
A64: =$A$1 -> 第44回嵐山町健康マラソン大会 参加申込書
A65: 申込者名 | G65: 申込者住所
A66: ふりがな | J66: 年齢 | L66: 性別
A67: 出場者名 | L67: 男 ・ 女
A68: 出場者住所 | J68: TEL
A69: 区分 (1つ以上に○) | C69: 町内在住 ・ 町内在勤 ・ 町内在学 ・ 町内団体所属 ・ 町内出身者とその同居家族
A70: 保護者名 (未成年者のみ) | J70: TEL
A71: 出場種目 (1つに○) | C71: 第 １ ２ ３ ４ 10 11 部
A72: 所属 (12字以内)
A73: 事務局 記入欄 | C73: DATE | F73: No. | I73: CHECK
A75: =$A$1 -> 第44回嵐山町健康マラソン大会 参加申込書
A76: 申込者名 | G76: 申込者住所
A77: ふりがな | J77: 年齢 | L77: 性別
A78: 出場者名 | L78: 男 ・ 女
A79: 出場者住所 | J79: TEL
A80: 区分 (1つ以上に○) | C80: 町内在住 ・ 町内在勤 ・ 町内在学 ・ 町内団体所属 ・ 町内出身者とその同居家族
A81: 保護者名 (未成年者のみ) | J81: TEL
A82: 出場種目 (1つに○) | C82: 第 １ ２ ３ ４ 10 11 部
A83: 所属 (12字以内)
A84: 事務局 記入欄 | C84: DATE | F84: No. | I84: CHECK
A85: =$A$1 -> 第44回嵐山町健康マラソン大会 参加申込書
A86: 申込者名 | G86: 申込者住所
A87: ふりがな | J87: 年齢 | L87: 性別
A88: 出場者名 | L88: 男 ・ 女
A89: 出場者住所 | J89: TEL
A90: 区分 (1つ以上に○) | C90: 町内在住 ・ 町内在勤 ・ 町内在学 ・ 町内団体所属 ・ 町内出身者とその同居家族
A91: 保護者名 (未成年者のみ) | J91: TEL
A92: 出場種目 (1つに○) | C92: 第 １ ２ ３ ４ 10 11 部
A93: 所属 (12字以内)
A94: 事務局 記入欄 | C94: DATE | F94: No. | I94: CHECK
A96: =$A$1 -> 第44回嵐山町健康マラソン大会 参加申込書
A97: 申込者名 | G97: 申込者住所
A98: ふりがな | J98: 年齢 | L98: 性別
A99: 出場者名 | L99: 男 ・ 女
A100: 出場者住所 | J100: TEL
A101: 区分 (1つ以上に○) | C101: 町内在住 ・ 町内在勤 ・ 町内在学 ・ 町内団体所属 ・ 町内出身者とその同居家族
A102: 保護者名 (未成年者のみ) | J102: TEL
A103: 出場種目 (1つに○) | C103: 第 １ ２ ３ ４ 10 11 部
A104: 所属 (12字以内)
A105: 事務局 記入欄 | C105: DATE | F105: No. | I105: CHECK
...

Sheet 1000m【ファミリー】
A1: ='1000m,5000m'!$A$1:$N$1 -> 第44回嵐山町健康マラソン大会 参加申込書
A2: 種目 | C2: 第５部 | G2: 申告タイム | I2: 分 秒 (10分00秒以内)
A3: 申込者名 | G3: 申込者住所
A4: ふりがな | G4: 出場者住所
A5: 出場者名
A6: 年齢 | E6: TEL | I6: 区分 | J6: 町内(在住・在勤・在学・団体)・町内出身者とその同居家族
A7: ふりがな | G7: 出場者住所
A8: 出場者名
A9: 年齢 | E9: TEL | I9: 区分 | J9: 町内(在住・在勤・在学・団体)・町内出身者とその同居家族
A10: ふりがな | G10: 出場者住所
A11: 出場者名
A12: 年齢 | E12: TEL | I12: 区分 | J12: 町内(在住・在勤・在学・団体)・町内出身者とその同居家族
A13: 所属 (12字以内)
A14: 事務局 記入欄 | C14: DATE | F14: No. | I14: CHECK
A15: ='1000m,5000m'!$A$1:$N$1 -> 第44回嵐山町健康マラソン大会 参加申込書
A16: 種目 | C16: 第５部 | G16: 申告タイム | I16: 分 秒 (10分00秒以内)
A17: 申込者名 | G17: 申込者住所
A18: ふりがな | G18: 出場者住所
A19: 出場者名
A20: 年齢 | E20: TEL | I20: 区分 | J20: 町内(在住・在勤・在学・団体)・町内出身者とその同居家族
A21: ふりがな | G21: 出場者住所
A22: 出場者名
A23: 年齢 | E23: TEL | I23: 区分 | J23: 町内(在住・在勤・在学・団体)・町内出身者とその同居家族
A24: ふりがな | G24: 出場者住所
A25: 出場者名
A26: 年齢 | E26: TEL | I26: 区分 | J26: 町内(在住・在勤・在学・団体)・町内出身者とその同居家族
A27: 所属 (12字以内)
A28: 事務局 記入欄 | C28: DATE | F28: No. | I28: CHECK
A29: ='1000m,5000m'!$A$1:$N$1 -> 第44回嵐山町健康マラソン大会 参加申込書
A30: 種目 | C30: 第５部 | G30: 申告タイム | I30: 分 秒 (10分00秒以内)
A31: 申込者名 | G31: 申込者住所
A32: ふりがな | G32: 出場者住所
A33: 出場者名
A34: 年齢 | E34: TEL | I34: 区分 | J34: 町内(在住・在勤・在学・団体)・町内出身者とその同居家族
A35: ふりがな | G35: 出場者住所
A36: 出場者名
A37: 年齢 | E37: TEL | I37: 区分 | J37: 町内(在住・在勤・在学・団体)・町内出身者とその同居家族
A38: ふりがな | G38: 出場者住所
A39: 出場者名
A40: 年齢 | E40: TEL | I40: 区分 | J40: 町内(在住・在勤・在学・団体)・町内出身者とその同居家族
A41: 所属 (12字以内)
A42: 事務局 記入欄 | C42: DATE | F42: No. | I42: CHECK
A43: ='1000m,5000m'!$A$1:$N$1 -> 第44回嵐山町健康マラソン大会 参加申込書
A44: 種目 | C44: 第５部 | G44: 申告タイム | I44: 分 秒 (10分00秒以内)
A45: 申込者名 | G45: 申込者住所
A46: ふりがな | G46: 出場者住所
A47: 出場者名
A48: 年齢 | E48: TEL | I48: 区分 | J48: 町内(在住・在勤・在学・団体)・町内出身者とその同居家族
A49: ふりがな | G49: 出場者住所
A50: 出場者名
A51: 年齢 | E51: TEL | I51: 区分 | J51: 町内(在住・在勤・在学・団体)・町内出身者とその同居家族
A52: ふりがな | G52: 出場者住所
A53: 出場者名
A54: 年齢 | E54: TEL | I54: 区分 | J54: 町内(在住・在勤・在学・団体)・町内出身者とその同居家族
A55: 所属 (12字以内)
A56: 事務局 記入欄 | C56: DATE | F56: No. | I56: CHECK
A57: ='1000m,5000m'!$A$1:$N$1 -> 第44回嵐山町健康マラソン大会 参加申込書
A58: 種目 | C58: 第５部 | G58: 申告タイム | I58: 分 秒 (10分00秒以内)
A59: 申込者名 | G59: 申込者住所
A60: ふりがな | G60: 出場者住所
A61: 出場者名
A62: 年齢 | E62: TEL | I62: 区分 | J62: 町内(在住・在勤・在学・団体)・町内出身者とその同居家族
A63: ふりがな | G63: 出場者住所
A64: 出場者名
A65: 年齢 | E65: TEL | I65: 区分 | J65: 町内(在住・在勤・在学・団体)・町内出身者とその同居家族
A66: ふりがな | G66: 出場者住所
A67: 出場者名
A68: 年齢 | E68: TEL | I68: 区分 | J68: 町内(在住・在勤・在学・団体)・町内出身者とその同居家族
A69: 所属 (12字以内)
A70: 事務局 記入欄 | C70: DATE | F70: No. | I70: CHECK
A71: ='1000m,5000m'!$A$1:$N$1 -> 第44回嵐山町健康マラソン大会 参加申込書
A72: 種目 | C72: 第５部 | G72: 申告タイム | I72: 分 秒 (10分00秒以内)
A73: 申込者名 | G73: 申込者住所
A74: ふりがな | G74: 出場者住所
A75: 出場者名
A76: 年齢 | E76: TEL | I76: 区分 | J76: 町内(在住・在勤・在学・団体)・町内出身者とその同居家族
A77: ふりがな | G77: 出場者住所
A78: 出場者名
A79: 年齢 | E79: TEL | I79: 区分 | J79: 町内(在住・在勤・在学・団体)・町内出身者とその同居家族
A80: ふりがな | G80: 出場者住所
A81: 出場者名
A82: 年齢 | E82: TEL | I82: 区分 | J82: 町内(在住・在勤・在学・団体)・町内出身者とその同居家族
A83: 所属 (12字以内)
A84: 事務局 記入欄 | C84: DATE | F84: No. | I84: CHECK
A85: ='1000m,5000m'!$A$1:$N$1 -> 第44回嵐山町健康マラソン大会 参加申込書
A86: 種目 | C86: 第５部 | G86: 申告タイム | I86: 分 秒 (10分00秒以内)
A87: 申込者名 | G87: 申込者住所
A88: ふりがな | G88: 出場者住所
A89: 出場者名
A90: 年齢 | E90: TEL | I90: 区分 | J90: 町内(在住・在勤・在学・団体)・町内出身者とその同居家族
A91: ふりがな | G91: 出場者住所
A92: 出場者名
A93: 年齢 | E93: TEL | I93: 区分 | J93: 町内(在住・在勤・在学・団体)・町内出身者とその同居家族
A94: ふりがな | G94: 出場者住所
A95: 出場者名
A96: 年齢 | E96: TEL | I96: 区分 | J96: 町内(在住・在勤・在学・団体)・町内出身者とその同居家族
A97: 所属 (12字以内)
A98: 事務局 記入欄 | C98: DATE | F98: No. | I98: CHECK
A99: ='1000m,5000m'!$A$1:$N$1 -> 第44回嵐山町健康マラソン大会 参加申込書
A100: 種目 | C100: 第５部 | G100: 申告タイム | I100: 分 秒 (10分00秒以内)
...
