Workbook

Sheet 1000m,5000m
A1: 第44回嵐山町健康マラソン大会 参加申込書
A2: 申込者名 | G2: 申込者住所
A3: ふりがな | J3: 年齢 | L3: 性別
A4: 出場者名 | L4: 男 ・ 女
A5: 出場者住所 | J5: TEL
A6: 区分 (1つ以上に○) | C6: 町内在住 ・ 町内在勤 ・ 町内在学 ・ 町内団体所属 ・ 町内出身者とその同居家族
A7: 保護者名 (未成年者のみ) | J7: TEL
A8: 出場種目 (1つに○) | C8: 第 １ ２ ３ ４ 10 11 部
A9: 所属 (12字以内)
A10: 事務局 記入欄 | C10: DATE | F10: No. | I10: CHECK
A12: =$A$1 -> 第44回嵐山町健康マラソン大会 参加申込書
A13: 申込者名 | G13: 申込者住所
A14: ふりがな | J14: 年齢 | L14: 性別
A15: 出場者名 | L15: 男 ・ 女
A16: 出場者住所 | J16: TEL
A17: 区分 (1つ以上に○) | C17: 町内在住 ・ 町内在勤 ・ 町内在学 ・ 町内団体所属 ・ 町内出身者とその同居家族
A18: 保護者名 (未成年者のみ) | J18: TEL
A19: 出場種目 (1つに○) | C19: 第 １ ２ ３ ４ 10 11 部
A20: 所属 (12字以内)
A21: 事務局 記入欄 | C21: DATE | F21: No. | I21: CHECK
A22: =$A$1 -> 第44回嵐山町健康マラソン大会 参加申込書
A23: 申込者名 | G23: 申込者住所
A24: ふりがな | J24: 年齢 | L24: 性別
A25: 出場者名 | L25: 男 ・ 女
A26: 出場者住所 | J26: TEL
A27: 区分 (1つ以上に○) | C27: 町内在住 ・ 町内在勤 ・ 町内在学 ・ 町内団体所属 ・ 町内出身者とその同居家族
A28: 保護者名 (未成年者のみ) | J28: TEL
A29: 出場種目 (1つに○) | C29: 第 １ ２ ３ ４ 10 11 部
A30: 所属 (12字以内)
A31: 事務局 記入欄 | C31: DATE | F31: No. | I31: CHECK
A33: =$A$1 -> 第44回嵐山町健康マラソン大会 参加申込書
A34: 申込者名 | G34: 申込者住所
A35: ふりがな | J35: 年齢 | L35: 性別
A36: 出場者名 | L36: 男 ・ 女
A37: 出場者住所 | J37: TEL
A38: 区分 (1つ以上に○) | C38: 町内在住 ・ 町内在勤 ・ 町内在学 ・ 町内団体所属 ・ 町内出身者とその同居家族
A39: 保護者名 (未成年者のみ) | J39: TEL
A40: 出場種目 (1つに○) | C40: 第 １ ２ ３ ４ 10 11 部
A41: 所属 (12字以内)
A42: 事務局 記入欄 | C42: DATE | F42: No. | I42: CHECK
...

Sheet 1000m【ファミリー】
A1: ='1000m,5000m'!$A$1:$N$1 -> 第44回嵐山町健康マラソン大会 参加申込書
A2: 種目 | C2: 第５部 | G2: 申告タイム | I2: 分 秒 (10分00秒以内)
A3: 申込者名 | G3: 申込者住所
A4: ふりがな | G4: 出場者住所
A5: 出場者名
A6: 年齢 | E6: TEL | I6: 区分 | J6: 町内(在住・在勤・在学・団体)・町内出身者とその同居家族
A7: ふりがな | G7: 出場者住所
A8: 出場者名
A9: 年齢 | E9: TEL | I9: 区分 | J9: 町内(在住・在勤・在学・団体)・町内出身者とその同居家族
A10: ふりがな | G10: 出場者住所
A11: 出場者名
A12: 年齢 | E12: TEL | I12: 区分 | J12: 町内(在住・在勤・在学・団体)・町内出身者とその同居家族
A13: 所属 (12字以内)
A14: 事務局 記入欄 | C14: DATE | F14: No. | I14: CHECK
A15: ='1000m,5000m'!$A$1:$N$1 -> 第44回嵐山町健康マラソン大会 参加申込書
A16: 種目 | C16: 第５部 | G16: 申告タイム | I16: 分 秒 (10分00秒以内)
A17: 申込者名 | G17: 申込者住所
A18: ふりがな | G18: 出場者住所
A19: 出場者名
A20: 年齢 | E20: TEL | I20: 区分 | J20: 町内(在住・在勤・在学・団体)・町内出身者とその同居家族
A21: ふりがな | G21: 出場者住所
A22: 出場者名
A23: 年齢 | E23: TEL | I23: 区分 | J23: 町内(在住・在勤・在学・団体)・町内出身者とその同居家族
A24: ふりがな | G24: 出場者住所
A25: 出場者名
A26: 年齢 | E26: TEL | I26: 区分 | J26: 町内(在住・在勤・在学・団体)・町内出身者とその同居家族
A27: 所属 (12字以内)
A28: 事務局 記入欄 | C28: DATE | F28: No. | I28: CHECK
A29: ='1000m,5000m'!$A$1:$N$1 -> 第44回嵐山町健康マラソン大会 参加申込書
A30: 種目 | C30: 第５部 | G30: 申告タイム | I30: 分 秒 (10分00秒以内)
A31: 申込者名 | G31: 申込者住所
A32: ふりがな | G32: 出場者住所
A33: 出場者名
A34: 年齢 | E34: TEL | I34: 区分 | J34: 町内(在住・在勤・在学・団体)・町内出身者とその同居家族
A35: ふりがな | G35: 出場者住所
A36: 出場者名
A37: 年齢 | E37: TEL | I37: 区分 | J37: 町内(在住・在勤・在学・団体)・町内出身者とその同居家族
A38: ふりがな | G38: 出場者住所
A39: 出場者名
A40: 年齢 | E40: TEL | I40: 区分 | J40: 町内(在住・在勤・在学・団体)・町内出身者とその同居家族
...
